BEGIN:VCALENDAR
VERSION:2.0
PRODID:-//Komen Italia - ECPv6.6.4//NONSGML v1.0//EN
CALSCALE:GREGORIAN
METHOD:PUBLISH
X-ORIGINAL-URL:https://komen.it
X-WR-CALDESC:Eventi per Komen Italia
REFRESH-INTERVAL;VALUE=DURATION:PT1H
X-Robots-Tag:noindex
X-PUBLISHED-TTL:PT1H
BEGIN:VTIMEZONE
TZID:Europe/Rome
BEGIN:DAYLIGHT
TZOFFSETFROM:+0100
TZOFFSETTO:+0200
TZNAME:CEST
DTSTART:20250330T010000
END:DAYLIGHT
BEGIN:STANDARD
TZOFFSETFROM:+0200
TZOFFSETTO:+0100
TZNAME:CET
DTSTART:20251026T010000
END:STANDARD
END:VTIMEZONE
BEGIN:VEVENT
DTSTART;TZID=Europe/Rome:20251206T100000
DTEND;TZID=Europe/Rome:20251206T150000
DTSTAMP:20260422T040123
CREATED:20251120T140946Z
LAST-MODIFIED:20251209T090210Z
UID:10000326-1765015200-1765033200@komen.it
SUMMARY:Itri
DESCRIPTION:
URL:https://komen.it/evento/itri-6dicembre2025/
LOCATION:Itri\, Piazza Umberto I\, Itri\, 04020\, Italia
CATEGORIES:Carovana della prevenzione
END:VEVENT
BEGIN:VEVENT
DTSTART;TZID=Europe/Rome:20251210T093000
DTEND;TZID=Europe/Rome:20251211T143000
DTSTAMP:20260422T040123
CREATED:20251204T151718Z
LAST-MODIFIED:20251204T151718Z
UID:10000337-1765359000-1765463400@komen.it
SUMMARY:Verbicaro
DESCRIPTION:
URL:https://komen.it/evento/verbicaro-10-11dicembre2025/
LOCATION:Verbicaro\, Piazza Palmiro Togliatti\, Verbicaro CS\, 87020\, Italia
CATEGORIES:Carovana della prevenzione
END:VEVENT
BEGIN:VEVENT
DTSTART;TZID=Europe/Rome:20251212T090000
DTEND;TZID=Europe/Rome:20251212T153000
DTSTAMP:20260422T040123
CREATED:20251201T143124Z
LAST-MODIFIED:20251201T163419Z
UID:10000334-1765530000-1765553400@komen.it
SUMMARY:Roma
DESCRIPTION:
URL:https://komen.it/evento/roma-farma-acquisition-holding-12dicembre2025/
LOCATION:Farmacia Spinaceto\, Via dei Caduti della Resistenza 117\, Roma\, 00128\, Italia
CATEGORIES:Carovana della prevenzione
END:VEVENT
BEGIN:VEVENT
DTSTART;TZID=Europe/Rome:20251212T093000
DTEND;TZID=Europe/Rome:20251214T143000
DTSTAMP:20260422T040123
CREATED:20251204T151454Z
LAST-MODIFIED:20251204T151454Z
UID:10000336-1765531800-1765722600@komen.it
SUMMARY:Scalea
DESCRIPTION:
URL:https://komen.it/evento/scalea-12-13-14dicembre2025/
LOCATION:Scalea\, Via Plinio il Vecchio\, Scalea CS\, 87029\, Italia
CATEGORIES:Carovana della prevenzione
END:VEVENT
BEGIN:VEVENT
DTSTART;TZID=Europe/Rome:20251213T090000
DTEND;TZID=Europe/Rome:20251213T150000
DTSTAMP:20260422T040123
CREATED:20251204T103125Z
LAST-MODIFIED:20251211T160207Z
UID:10000335-1765616400-1765638000@komen.it
SUMMARY:Roma
DESCRIPTION:
URL:https://komen.it/evento/roma-13dicembre2025/
LOCATION:Parrocchia Santa Faustina di Kowalska\, Viale Indro Montanelli\, 7\, Roma\, 00132\, Italia
CATEGORIES:Carovana della prevenzione
END:VEVENT
BEGIN:VEVENT
DTSTART;TZID=Europe/Rome:20251213T090000
DTEND;TZID=Europe/Rome:20251213T153000
DTSTAMP:20260422T040123
CREATED:20251127T104953Z
LAST-MODIFIED:20251212T090026Z
UID:10000333-1765616400-1765639800@komen.it
SUMMARY:Roma
DESCRIPTION:
URL:https://komen.it/evento/roma-farma-acquisition-holding-13dicembre2025/
LOCATION:Farmacia Spinaceto\, Via dei Caduti della Resistenza 117\, Roma\, 00128\, Italia
CATEGORIES:Carovana della prevenzione
END:VEVENT
BEGIN:VEVENT
DTSTART;TZID=Europe/Rome:20251215T090000
DTEND;TZID=Europe/Rome:20251215T150000
DTSTAMP:20260422T040123
CREATED:20251017T151050Z
LAST-MODIFIED:20251210T161539Z
UID:10000309-1765789200-1765810800@komen.it
SUMMARY:Monteforte Irpino
DESCRIPTION:
URL:https://komen.it/evento/monteforte-irpino-15dicembre2025/
LOCATION:Privato: DECO’ MAXISTORE Monteforte Irpino\, VIA CAMPANILE\, Monteforte Irpino AV\, 83024\, Italia
CATEGORIES:Carovana della prevenzione
END:VEVENT
BEGIN:VEVENT
DTSTART;TZID=Europe/Rome:20251217T090000
DTEND;TZID=Europe/Rome:20251217T150000
DTSTAMP:20260422T040123
CREATED:20251016T082048Z
LAST-MODIFIED:20251214T161724Z
UID:10000304-1765962000-1765983600@komen.it
SUMMARY:Santa Maria Capua Vetere
DESCRIPTION:
URL:https://komen.it/evento/santa-maria-capua-vetere-17dicembre2025/
LOCATION:Privato: DECÒ SUPERSTORE  Santa Maria Capua Vetere\, Via Galatina\, Santa Maria Capua Vetere (CE)\, 81055\, Italia
CATEGORIES:Carovana della prevenzione
END:VEVENT
END:VCALENDAR