BEGIN:VCALENDAR
VERSION:2.0
PRODID:-//Komen Italia - ECPv6.6.4//NONSGML v1.0//EN
CALSCALE:GREGORIAN
METHOD:PUBLISH
X-WR-CALNAME:Komen Italia
X-ORIGINAL-URL:https://komen.it
X-WR-CALDESC:Eventi per Komen Italia
REFRESH-INTERVAL;VALUE=DURATION:PT1H
X-Robots-Tag:noindex
X-PUBLISHED-TTL:PT1H
BEGIN:VTIMEZONE
TZID:Europe/Rome
BEGIN:DAYLIGHT
TZOFFSETFROM:+0100
TZOFFSETTO:+0200
TZNAME:CEST
DTSTART:20250330T010000
END:DAYLIGHT
BEGIN:STANDARD
TZOFFSETFROM:+0200
TZOFFSETTO:+0100
TZNAME:CET
DTSTART:20251026T010000
END:STANDARD
END:VTIMEZONE
BEGIN:VEVENT
DTSTART;TZID=Europe/Rome:20251029T100000
DTEND;TZID=Europe/Rome:20251101T170000
DTSTAMP:20260422T020657
CREATED:20250919T150719Z
LAST-MODIFIED:20251029T105419Z
UID:10000273-1761732000-1762016400@komen.it
SUMMARY:Chieti - Villaggi della Salute
DESCRIPTION:
URL:https://komen.it/evento/villaggi-chieti-29-30-31-1novembre2025/
LOCATION:Piazza San Giustino\, Chieti\, 66100\, Italia
CATEGORIES:Carovana della prevenzione
END:VEVENT
BEGIN:VEVENT
DTSTART;TZID=Europe/Rome:20251102T100000
DTEND;TZID=Europe/Rome:20251104T170000
DTSTAMP:20260422T020657
CREATED:20250919T151352Z
LAST-MODIFIED:20251103T100730Z
UID:10000274-1762077600-1762275600@komen.it
SUMMARY:Tolfa Allumiere - Villaggi della Salute
DESCRIPTION:
URL:https://komen.it/evento/villaggi-tolfaallumiere-2-3-4novembre2025/
LOCATION:Privato: Villaggio della Salute – Tolfa Allumiere\, Piazza Vittorio Veneto\, Tolfa RM\, 00059\, Italia
CATEGORIES:Carovana della prevenzione
END:VEVENT
BEGIN:VEVENT
DTSTART;TZID=Europe/Rome:20251105T093000
DTEND;TZID=Europe/Rome:20251105T153000
DTSTAMP:20260422T020657
CREATED:20251016T154347Z
LAST-MODIFIED:20251024T084327Z
UID:10000305-1762335000-1762356600@komen.it
SUMMARY:Marigliano
DESCRIPTION:
URL:https://komen.it/evento/marigliano-5novembre2025/
LOCATION:Privato: INTERSPAR Marigliano\, Via Pontecitra\, 72\, Marigliano (NA)\, 80034\, Italia
CATEGORIES:Carovana della prevenzione
END:VEVENT
BEGIN:VEVENT
DTSTART;TZID=Europe/Rome:20251106T090000
DTEND;TZID=Europe/Rome:20251106T150000
DTSTAMP:20260422T020657
CREATED:20251015T132824Z
LAST-MODIFIED:20251103T161755Z
UID:10000298-1762419600-1762441200@komen.it
SUMMARY:Napoli
DESCRIPTION:
URL:https://komen.it/evento/napoli-6novembre2025/
LOCATION:Privato: DECO’ MAXISTORE Napoli\, VIALE GIOCHI DEL MEDITERRANEO\, Napoli\, 80125\, Italia
CATEGORIES:Carovana della prevenzione
END:VEVENT
BEGIN:VEVENT
DTSTART;TZID=Europe/Rome:20251106T130000
DTEND;TZID=Europe/Rome:20251107T140000
DTSTAMP:20260422T020657
CREATED:20250919T151536Z
LAST-MODIFIED:20251105T102735Z
UID:10000275-1762434000-1762524000@komen.it
SUMMARY:Roma - Villaggi della Salute
DESCRIPTION:
URL:https://komen.it/evento/villaggi-roma-6-7novembre2025/
LOCATION:San Pietro\, Roma\, Italia
CATEGORIES:Carovana della prevenzione
END:VEVENT
BEGIN:VEVENT
DTSTART;TZID=Europe/Rome:20251107T100000
DTEND;TZID=Europe/Rome:20251109T170000
DTSTAMP:20260422T020657
CREATED:20251027T124504Z
LAST-MODIFIED:20251103T114626Z
UID:10000311-1762509600-1762707600@komen.it
SUMMARY:Napoli - Race for the Cure
DESCRIPTION:Consulenza Psicongologica
URL:https://komen.it/evento/napoli-race-for-the-cure-7-8-9novembre2025/
LOCATION:Privato: Race for the Cure – Napoli\, Piazza degli Artisti\, Napoli\, 80129\, Italia
CATEGORIES:Carovana della prevenzione
END:VEVENT
BEGIN:VEVENT
DTSTART;TZID=Europe/Rome:20251109T093000
DTEND;TZID=Europe/Rome:20251109T143000
DTSTAMP:20260422T020657
CREATED:20251103T113730Z
LAST-MODIFIED:20251103T113743Z
UID:10000315-1762680600-1762698600@komen.it
SUMMARY:Cassano all'Ionio
DESCRIPTION:
URL:https://komen.it/evento/cassano-allionio-9novembre2025/
LOCATION:Cassano all’Ionio\, Piazza Aldo Moro\, Cassano all'Ionio CS\, 87011\, Italia
CATEGORIES:Carovana della prevenzione
END:VEVENT
BEGIN:VEVENT
DTSTART;TZID=Europe/Rome:20251110T093000
DTEND;TZID=Europe/Rome:20251112T143000
DTSTAMP:20260422T020657
CREATED:20251008T110612Z
LAST-MODIFIED:20251103T113349Z
UID:10000286-1762767000-1762957800@komen.it
SUMMARY:Fuscaldo CS
DESCRIPTION:
URL:https://komen.it/evento/fuscaldo-10-11-12novembre2025/
LOCATION:Piazza Marconi\, Fuscaldo CS\, 87024\, Italia
CATEGORIES:Carovana della prevenzione
END:VEVENT
BEGIN:VEVENT
DTSTART;TZID=Europe/Rome:20251111T090000
DTEND;TZID=Europe/Rome:20251111T150000
DTSTAMP:20260422T020657
CREATED:20251014T121450Z
LAST-MODIFIED:20251106T161543Z
UID:10000295-1762851600-1762873200@komen.it
SUMMARY:Casamassima
DESCRIPTION:
URL:https://komen.it/evento/casamassima-11novembre2025/
LOCATION:DECO’ MAXISTORE Casamassima\, Via Bari 119\, Casamassima (BA)\, 70010\, Italia
CATEGORIES:Carovana della prevenzione
END:VEVENT
BEGIN:VEVENT
DTSTART;TZID=Europe/Rome:20251113T093000
DTEND;TZID=Europe/Rome:20251114T143000
DTSTAMP:20260422T020657
CREATED:20251031T150949Z
LAST-MODIFIED:20251031T151306Z
UID:10000314-1763026200-1763130600@komen.it
SUMMARY:Bonifati CS
DESCRIPTION:
URL:https://komen.it/evento/bonifati-cs-13-14novembre2025/
LOCATION:Bonifati\, Vedere locandina\, Bonifati CS\, 87020\, Italia
CATEGORIES:Carovana della prevenzione
END:VEVENT
BEGIN:VEVENT
DTSTART;TZID=Europe/Rome:20251115T093000
DTEND;TZID=Europe/Rome:20251116T143000
DTSTAMP:20260422T020657
CREATED:20251008T120005Z
LAST-MODIFIED:20251104T122848Z
UID:10000288-1763199000-1763303400@komen.it
SUMMARY:Belvedere CS
DESCRIPTION:
URL:https://komen.it/evento/belvedere-15-16novebre2025/
LOCATION:Belvedere CS\, Via Fiordaliso Lungomare\, Belvedere CS\, 87021\, Italia
CATEGORIES:Carovana della prevenzione
END:VEVENT
BEGIN:VEVENT
DTSTART;TZID=Europe/Rome:20251116T090000
DTEND;TZID=Europe/Rome:20251116T163000
DTSTAMP:20260422T020657
CREATED:20251111T101527Z
LAST-MODIFIED:20251111T101527Z
UID:10000317-1763283600-1763310600@komen.it
SUMMARY:Corsano (LE)
DESCRIPTION:
URL:https://komen.it/evento/corsano-16novembre2025/
LOCATION:Piazza San Biagio\, Piazza San Biagio\, Corsano LE\, 73033\, Italia
CATEGORIES:Carovana della prevenzione
END:VEVENT
BEGIN:VEVENT
DTSTART;TZID=Europe/Rome:20251117T093000
DTEND;TZID=Europe/Rome:20251117T143000
DTSTAMP:20260422T020657
CREATED:20251008T120146Z
LAST-MODIFIED:20251103T111426Z
UID:10000289-1763371800-1763389800@komen.it
SUMMARY:Belvedere CS
DESCRIPTION:
URL:https://komen.it/evento/belvedere-17novebre2025/
LOCATION:Località Acquaro\, Belvedere CS\, 87021\, Italia
CATEGORIES:Carovana della prevenzione
END:VEVENT
BEGIN:VEVENT
DTSTART;TZID=Europe/Rome:20251118T093000
DTEND;TZID=Europe/Rome:20251118T143000
DTSTAMP:20260422T020657
CREATED:20251008T120411Z
LAST-MODIFIED:20251103T111400Z
UID:10000290-1763458200-1763476200@komen.it
SUMMARY:Belvedere CS
DESCRIPTION:
URL:https://komen.it/evento/belvedere-18novembre2025/
LOCATION:cortile Palazzetto dello Sport\, Via degli Svevi\, Belvedere CS\, 87021\, Italia
CATEGORIES:Carovana della prevenzione
END:VEVENT
BEGIN:VEVENT
DTSTART;TZID=Europe/Rome:20251119T093000
DTEND;TZID=Europe/Rome:20251120T143000
DTSTAMP:20260422T020657
CREATED:20251008T121639Z
LAST-MODIFIED:20251103T113439Z
UID:10000291-1763544600-1763649000@komen.it
SUMMARY:Buonvicino CS
DESCRIPTION:
URL:https://komen.it/evento/buonvicino-19-20novembre2025/
LOCATION:Piazza XVII settembre\, Buonvicino CS\, 87020\, Italia
CATEGORIES:Carovana della prevenzione
END:VEVENT
BEGIN:VEVENT
DTSTART;TZID=Europe/Rome:20251121T093000
DTEND;TZID=Europe/Rome:20251122T143000
DTSTAMP:20260422T020657
CREATED:20251008T121827Z
LAST-MODIFIED:20251103T113139Z
UID:10000292-1763717400-1763821800@komen.it
SUMMARY:Diamante CS
DESCRIPTION:
URL:https://komen.it/evento/diamante-21-22novembre2025/
LOCATION:Piazza Giovanni Paolo II\, Diamante CS\, 87023\, Italia
CATEGORIES:Carovana della prevenzione
END:VEVENT
BEGIN:VEVENT
DTSTART;TZID=Europe/Rome:20251122T090000
DTEND;TZID=Europe/Rome:20251123T143000
DTSTAMP:20260422T020657
CREATED:20251104T093225Z
LAST-MODIFIED:20251118T080916Z
UID:10000316-1763802000-1763908200@komen.it
SUMMARY:Città Sant'Angelo PE
DESCRIPTION:
URL:https://komen.it/evento/citta-santangelo-pe-22-23novembre2025/
LOCATION:ingresso Farmacia D’Addario Francesca\, Via XXII Maggio 1944 n. 22\, Città Sant'Angelo PE\, 65013\, Italia
CATEGORIES:Carovana della prevenzione
END:VEVENT
BEGIN:VEVENT
DTSTART;TZID=Europe/Rome:20251122T090000
DTEND;TZID=Europe/Rome:20251123T143000
DTSTAMP:20260422T020657
CREATED:20251112T124725Z
LAST-MODIFIED:20251113T132713Z
UID:10000319-1763802000-1763908200@komen.it
SUMMARY:Spoleto
DESCRIPTION:
URL:https://komen.it/evento/spoleto-22-23novembre2025/
LOCATION:Spoleto\, Piazza della Vittoria\, Spoleto PG\, 06049\, Italia
CATEGORIES:Carovana della prevenzione
END:VEVENT
BEGIN:VEVENT
DTSTART;TZID=Europe/Rome:20251123T090000
DTEND;TZID=Europe/Rome:20251123T150000
DTSTAMP:20260422T020657
CREATED:20251112T132039Z
LAST-MODIFIED:20251121T115419Z
UID:10000320-1763888400-1763910000@komen.it
SUMMARY:Montelibretti
DESCRIPTION:
URL:https://komen.it/evento/montelibretti-23novembre2025/
LOCATION:Piazza della Repubblica\, 1\, Montelibretti (RM)\, 00010\, Italia
CATEGORIES:Carovana della prevenzione
END:VEVENT
BEGIN:VEVENT
DTSTART;TZID=Europe/Rome:20251123T093000
DTEND;TZID=Europe/Rome:20251124T143000
DTSTAMP:20260422T020657
CREATED:20251008T122325Z
LAST-MODIFIED:20251103T113306Z
UID:10000293-1763890200-1763994600@komen.it
SUMMARY:Santa Maria del Cedro CS
DESCRIPTION:
URL:https://komen.it/evento/santa-maria-del-cendro-23-24novembre2025/
LOCATION:Piazza  Giovanni Falcone\, Santa Maria del Cedro CS\, 87020\, Italia
CATEGORIES:Carovana della prevenzione
END:VEVENT
BEGIN:VEVENT
DTSTART;TZID=Europe/Rome:20251125T090000
DTEND;TZID=Europe/Rome:20251125T150000
DTSTAMP:20260422T020657
CREATED:20251112T141415Z
LAST-MODIFIED:20251118T081110Z
UID:10000322-1764061200-1764082800@komen.it
SUMMARY:Riace
DESCRIPTION:
URL:https://komen.it/evento/riace-25novembre2025/
LOCATION:Piazza del Municipio\, Riace\, 89040\, Italia
CATEGORIES:Carovana della prevenzione
END:VEVENT
BEGIN:VEVENT
DTSTART;TZID=Europe/Rome:20251126T090000
DTEND;TZID=Europe/Rome:20251126T150000
DTSTAMP:20260422T020657
CREATED:20251112T134117Z
LAST-MODIFIED:20251121T152351Z
UID:10000321-1764147600-1764169200@komen.it
SUMMARY:Roma
DESCRIPTION:
URL:https://komen.it/evento/roma-26novembre2025/
LOCATION:Chiesa Parrocchiale di Sant’Eligio\, Via del Fosso dell'Osa\, 435\, Roma\, 00132\, Italia
CATEGORIES:Carovana della prevenzione
END:VEVENT
BEGIN:VEVENT
DTSTART;TZID=Europe/Rome:20251126T093000
DTEND;TZID=Europe/Rome:20251126T153000
DTSTAMP:20260422T020657
CREATED:20251016T155649Z
LAST-MODIFIED:20251112T112949Z
UID:10000306-1764149400-1764171000@komen.it
SUMMARY:Rende
DESCRIPTION:
URL:https://komen.it/evento/rende-26novembre2025/
LOCATION:INTESPAR Rende\, Via Silvio Pellico\, 18\, Rende (CS)\, 87036\, Italia
CATEGORIES:Carovana della prevenzione
END:VEVENT
BEGIN:VEVENT
DTSTART;TZID=Europe/Rome:20251127T090000
DTEND;TZID=Europe/Rome:20251127T150000
DTSTAMP:20260422T020657
CREATED:20251017T145623Z
LAST-MODIFIED:20251124T160113Z
UID:10000308-1764234000-1764255600@komen.it
SUMMARY:Salerno
DESCRIPTION:
URL:https://komen.it/evento/salerno-27novembre2025-2/
LOCATION:DECO’ MAXISTORE Salerno\, VIA MIGLIARO\, Salerno\, 84100\, Italia
CATEGORIES:Carovana della prevenzione
END:VEVENT
BEGIN:VEVENT
DTSTART;TZID=Europe/Rome:20251128T093000
DTEND;TZID=Europe/Rome:20251128T143000
DTSTAMP:20260422T020657
CREATED:20251120T142223Z
LAST-MODIFIED:20251120T142929Z
UID:10000327-1764322200-1764340200@komen.it
SUMMARY:Laino Borgo
DESCRIPTION:
URL:https://komen.it/evento/laino-borgo-28novembre2025/
LOCATION:Laino Borgo\, Via Gioia Abate\, Laino Borgo CS\, 87014\, Italia
CATEGORIES:Carovana della prevenzione
END:VEVENT
BEGIN:VEVENT
DTSTART;TZID=Europe/Rome:20251129T090000
DTEND;TZID=Europe/Rome:20251129T150000
DTSTAMP:20260422T020657
CREATED:20251113T153651Z
LAST-MODIFIED:20251121T120142Z
UID:10000324-1764406800-1764428400@komen.it
SUMMARY:Morlupo
DESCRIPTION:
URL:https://komen.it/evento/morlupo-29novembre2025/
LOCATION:Piazza Armando Diaz\, Morlupo\, 00067\, Italia
CATEGORIES:Carovana della prevenzione
END:VEVENT
BEGIN:VEVENT
DTSTART;TZID=Europe/Rome:20251129T093000
DTEND;TZID=Europe/Rome:20251129T143000
DTSTAMP:20260422T020657
CREATED:20251120T143630Z
LAST-MODIFIED:20251120T143630Z
UID:10000328-1764408600-1764426600@komen.it
SUMMARY:Laino Castello
DESCRIPTION:
URL:https://komen.it/evento/laino-castello-29novembre2025/
LOCATION:Laino Castello\, Piazza I^ Maggio\, Laino Castello CS\, 87015\, Italia
CATEGORIES:Carovana della prevenzione
END:VEVENT
BEGIN:VEVENT
DTSTART;TZID=Europe/Rome:20251130T090000
DTEND;TZID=Europe/Rome:20251130T150000
DTSTAMP:20260422T020657
CREATED:20251113T132135Z
LAST-MODIFIED:20260310T042857Z
UID:10000323-1764493200-1764514800@komen.it
SUMMARY:Capena
DESCRIPTION:
URL:https://komen.it/evento/capena-30novembre2025/
LOCATION:Piazza San Luca\, Capena\, 00060\, Italia
CATEGORIES:Carovana della prevenzione
END:VEVENT
BEGIN:VEVENT
DTSTART;TZID=Europe/Rome:20251130T093000
DTEND;TZID=Europe/Rome:20251130T143000
DTSTAMP:20260422T020657
CREATED:20251120T144040Z
LAST-MODIFIED:20251120T144040Z
UID:10000329-1764495000-1764513000@komen.it
SUMMARY:Cassano all'Ionio
DESCRIPTION:
URL:https://komen.it/evento/cassano-ionio-30novembre2025/
LOCATION:Cassano all’Ionio\, Piazza Salvatore Frasca\, Cassano all'Ionio CS\, 87011\, Italia
CATEGORIES:Carovana della prevenzione
END:VEVENT
END:VCALENDAR