BEGIN:VCALENDAR
VERSION:2.0
PRODID:-//Komen Italia - ECPv6.6.4//NONSGML v1.0//EN
CALSCALE:GREGORIAN
METHOD:PUBLISH
X-WR-CALNAME:Komen Italia
X-ORIGINAL-URL:https://komen.it
X-WR-CALDESC:Eventi per Komen Italia
REFRESH-INTERVAL;VALUE=DURATION:PT1H
X-Robots-Tag:noindex
X-PUBLISHED-TTL:PT1H
BEGIN:VTIMEZONE
TZID:Europe/Rome
BEGIN:DAYLIGHT
TZOFFSETFROM:+0100
TZOFFSETTO:+0200
TZNAME:CEST
DTSTART:20250330T010000
END:DAYLIGHT
BEGIN:STANDARD
TZOFFSETFROM:+0200
TZOFFSETTO:+0100
TZNAME:CET
DTSTART:20251026T010000
END:STANDARD
END:VTIMEZONE
BEGIN:VEVENT
DTSTART;TZID=Europe/Rome:20250520T090000
DTEND;TZID=Europe/Rome:20250526T143000
DTSTAMP:20260421T145306
CREATED:20250512T081325Z
LAST-MODIFIED:20250512T082819Z
UID:10000192-1747731600-1748269800@komen.it
SUMMARY:Montalto Uffugo (CS)
DESCRIPTION:
URL:https://komen.it/evento/montalto-uffugo-20-26maggio2025/
LOCATION:Piazza Canonaco – Taverna di Montalto di Uffugo\, Montalto Uffuco (CS)\, Italia
CATEGORIES:Carovana della prevenzione
END:VEVENT
BEGIN:VEVENT
DTSTART;TZID=Europe/Rome:20250522T083000
DTEND;TZID=Europe/Rome:20250522T130000
DTSTAMP:20260421T145306
CREATED:20250514T124927Z
LAST-MODIFIED:20250522T080118Z
UID:10000201-1747902600-1747918800@komen.it
SUMMARY:Potenza
DESCRIPTION:
URL:https://komen.it/evento/potenza-22maggio2025/
LOCATION:Potenza\, Piazzale Michetti\, 85100\, Italia
CATEGORIES:Carovana della prevenzione
END:VEVENT
BEGIN:VEVENT
DTSTART;TZID=Europe/Rome:20250523T090000
DTEND;TZID=Europe/Rome:20250523T150000
DTSTAMP:20260421T145306
CREATED:20250515T135348Z
LAST-MODIFIED:20250515T150718Z
UID:10000204-1747990800-1748012400@komen.it
SUMMARY:Lagonegro (PZ)
DESCRIPTION:
URL:https://komen.it/evento/lagonegro-23maggio2025/
LOCATION:Piazza Unità d’Italia\, 1\, Lagonegro (PZ)\, 85042\, Italia
CATEGORIES:Carovana della prevenzione
END:VEVENT
BEGIN:VEVENT
DTSTART;TZID=Europe/Rome:20250524T093000
DTEND;TZID=Europe/Rome:20250524T153000
DTSTAMP:20260421T145306
CREATED:20250514T152654Z
LAST-MODIFIED:20250523T141044Z
UID:10000202-1748079000-1748100600@komen.it
SUMMARY:Montemurro (PZ)
DESCRIPTION:
URL:https://komen.it/evento/montemurro-24maggio2025/
LOCATION:Montemurro\, Piazza G. Albini\, 85053\, Italia
CATEGORIES:Carovana della prevenzione
END:VEVENT
BEGIN:VEVENT
DTSTART;TZID=Europe/Rome:20250525T090000
DTEND;TZID=Europe/Rome:20250525T150000
DTSTAMP:20260421T145306
CREATED:20250512T095305Z
LAST-MODIFIED:20250523T140740Z
UID:10000194-1748163600-1748185200@komen.it
SUMMARY:Genzano
DESCRIPTION:
URL:https://komen.it/evento/genzano-25maggio2025/
LOCATION:Genzano – Piazza della Repubblica\, Piazza della Repubblica\, Genzano\, 00045\, Italia
CATEGORIES:Carovana della prevenzione
END:VEVENT
BEGIN:VEVENT
DTSTART;TZID=Europe/Rome:20250525T090000
DTEND;TZID=Europe/Rome:20250525T150000
DTSTAMP:20260421T145306
CREATED:20250515T133438Z
LAST-MODIFIED:20250515T154518Z
UID:10000203-1748163600-1748185200@komen.it
SUMMARY:Abriola (PZ)
DESCRIPTION:
URL:https://komen.it/evento/abriola-25maggio2025/
LOCATION:Parcheggio comunale\, Via La Cava\, Abriola (PZ)\, 85010\, Italia
CATEGORIES:Carovana della prevenzione
END:VEVENT
BEGIN:VEVENT
DTSTART;TZID=Europe/Rome:20250526T090000
DTEND;TZID=Europe/Rome:20250526T150000
DTSTAMP:20260421T145306
CREATED:20250512T104724Z
LAST-MODIFIED:20250529T073026Z
UID:10000195-1748250000-1748271600@komen.it
SUMMARY:Grottaferrata
DESCRIPTION:
URL:https://komen.it/evento/grottaferrata-26maggio2025/
LOCATION:Grottaferrata – Piazza San Nilo\, Piazza San Nilo\, Grottaferrata\, 00046\, Italia
CATEGORIES:Carovana della prevenzione
END:VEVENT
BEGIN:VEVENT
DTSTART;TZID=Europe/Rome:20250526T090000
DTEND;TZID=Europe/Rome:20250526T150000
DTSTAMP:20260421T145306
CREATED:20250522T152109Z
LAST-MODIFIED:20250525T150626Z
UID:10000210-1748250000-1748271600@komen.it
SUMMARY:Gaeta
DESCRIPTION:
URL:https://komen.it/evento/gaeta-26maggio2025/
LOCATION:Porto commerciale di Gaeta\, Gaeta LT\, 04024\, Italia
CATEGORIES:Carovana della prevenzione
END:VEVENT
BEGIN:VEVENT
DTSTART;TZID=Europe/Rome:20250527T090000
DTEND;TZID=Europe/Rome:20250527T143000
DTSTAMP:20260421T145306
CREATED:20250513T131158Z
LAST-MODIFIED:20250513T140007Z
UID:10000199-1748336400-1748356200@komen.it
SUMMARY:Santa Sofia d'Epiro (CS)
DESCRIPTION:
URL:https://komen.it/evento/santa-sofia-depiro-27maggio2025/
LOCATION:Santa Sofia d’Epiro\, Piazza Sant'Attanasio\, Santa Sofia d'Epiro CS\, 87048\, Italia
CATEGORIES:Carovana della prevenzione
END:VEVENT
BEGIN:VEVENT
DTSTART;TZID=Europe/Rome:20250528T090000
DTEND;TZID=Europe/Rome:20250528T150000
DTSTAMP:20260421T145306
CREATED:20250512T110213Z
LAST-MODIFIED:20250527T090145Z
UID:10000196-1748422800-1748444400@komen.it
SUMMARY:Roma
DESCRIPTION:
URL:https://komen.it/evento/roma-28maggio2025/
LOCATION:Ponte Milvio – Roma\, Ponte Milvio\, Roma\, 00135\, Italia
CATEGORIES:Carovana della prevenzione
END:VEVENT
BEGIN:VEVENT
DTSTART;TZID=Europe/Rome:20250528T090000
DTEND;TZID=Europe/Rome:20250528T150000
DTSTAMP:20260421T145306
CREATED:20250512T111152Z
LAST-MODIFIED:20250527T090152Z
UID:10000197-1748422800-1748444400@komen.it
SUMMARY:Roma
DESCRIPTION:
URL:https://komen.it/evento/roma-28maggio2025-montanelli/
LOCATION:Parrocchia Santa Faustina\, Viale Indro Montanelli\, 7\, Roma\, 00168\, Italia
CATEGORIES:Carovana della prevenzione
END:VEVENT
BEGIN:VEVENT
DTSTART;TZID=Europe/Rome:20250528T090000
DTEND;TZID=Europe/Rome:20250530T143000
DTSTAMP:20260421T145306
CREATED:20250512T084716Z
LAST-MODIFIED:20250512T084716Z
UID:10000193-1748422800-1748615400@komen.it
SUMMARY:Lattarico (CS)
DESCRIPTION:
URL:https://komen.it/evento/lattarico-28-30maggio2025/
LOCATION:Campus dell’ età libera – C.da Palazzello\, Lattarico CS\, Italia
CATEGORIES:Carovana della prevenzione
END:VEVENT
BEGIN:VEVENT
DTSTART;TZID=Europe/Rome:20250531T090000
DTEND;TZID=Europe/Rome:20250531T143000
DTSTAMP:20260421T145306
CREATED:20250513T130823Z
LAST-MODIFIED:20250513T140002Z
UID:10000198-1748682000-1748701800@komen.it
SUMMARY:Torano Castello (CS)
DESCRIPTION:
URL:https://komen.it/evento/torano-castello-31maggio2025/
LOCATION:Torano Castello\, PIAZZA EUROPA\, Torano Castello CS\, 87010\, Italia
CATEGORIES:Carovana della prevenzione
END:VEVENT
END:VCALENDAR