BEGIN:VCALENDAR
VERSION:2.0
PRODID:-//Komen Italia - ECPv6.6.4//NONSGML v1.0//EN
CALSCALE:GREGORIAN
METHOD:PUBLISH
X-ORIGINAL-URL:https://komen.it
X-WR-CALDESC:Eventi per Komen Italia
REFRESH-INTERVAL;VALUE=DURATION:PT1H
X-Robots-Tag:noindex
X-PUBLISHED-TTL:PT1H
BEGIN:VTIMEZONE
TZID:Europe/Rome
BEGIN:DAYLIGHT
TZOFFSETFROM:+0100
TZOFFSETTO:+0200
TZNAME:CEST
DTSTART:20250330T010000
END:DAYLIGHT
BEGIN:STANDARD
TZOFFSETFROM:+0200
TZOFFSETTO:+0100
TZNAME:CET
DTSTART:20251026T010000
END:STANDARD
END:VTIMEZONE
BEGIN:VEVENT
DTSTART;TZID=Europe/Rome:20251121T093000
DTEND;TZID=Europe/Rome:20251122T143000
DTSTAMP:20260422T035740
CREATED:20251008T121827Z
LAST-MODIFIED:20251103T113139Z
UID:10000292-1763717400-1763821800@komen.it
SUMMARY:Diamante CS
DESCRIPTION:
URL:https://komen.it/evento/diamante-21-22novembre2025/
LOCATION:Piazza Giovanni Paolo II\, Diamante CS\, 87023\, Italia
CATEGORIES:Carovana della prevenzione
END:VEVENT
BEGIN:VEVENT
DTSTART;TZID=Europe/Rome:20251122T090000
DTEND;TZID=Europe/Rome:20251123T143000
DTSTAMP:20260422T035740
CREATED:20251104T093225Z
LAST-MODIFIED:20251118T080916Z
UID:10000316-1763802000-1763908200@komen.it
SUMMARY:Città Sant'Angelo PE
DESCRIPTION:
URL:https://komen.it/evento/citta-santangelo-pe-22-23novembre2025/
LOCATION:ingresso Farmacia D’Addario Francesca\, Via XXII Maggio 1944 n. 22\, Città Sant'Angelo PE\, 65013\, Italia
CATEGORIES:Carovana della prevenzione
END:VEVENT
BEGIN:VEVENT
DTSTART;TZID=Europe/Rome:20251122T090000
DTEND;TZID=Europe/Rome:20251123T143000
DTSTAMP:20260422T035740
CREATED:20251112T124725Z
LAST-MODIFIED:20251113T132713Z
UID:10000319-1763802000-1763908200@komen.it
SUMMARY:Spoleto
DESCRIPTION:
URL:https://komen.it/evento/spoleto-22-23novembre2025/
LOCATION:Spoleto\, Piazza della Vittoria\, Spoleto PG\, 06049\, Italia
CATEGORIES:Carovana della prevenzione
END:VEVENT
END:VCALENDAR