BEGIN:VCALENDAR
VERSION:2.0
PRODID:-//Komen Italia - ECPv6.6.4//NONSGML v1.0//EN
CALSCALE:GREGORIAN
METHOD:PUBLISH
X-WR-CALNAME:Komen Italia
X-ORIGINAL-URL:https://komen.it
X-WR-CALDESC:Eventi per Komen Italia
REFRESH-INTERVAL;VALUE=DURATION:PT1H
X-Robots-Tag:noindex
X-PUBLISHED-TTL:PT1H
BEGIN:VTIMEZONE
TZID:Europe/Rome
BEGIN:DAYLIGHT
TZOFFSETFROM:+0100
TZOFFSETTO:+0200
TZNAME:CEST
DTSTART:20250330T010000
END:DAYLIGHT
BEGIN:STANDARD
TZOFFSETFROM:+0200
TZOFFSETTO:+0100
TZNAME:CET
DTSTART:20251026T010000
END:STANDARD
END:VTIMEZONE
BEGIN:VEVENT
DTSTART;TZID=Europe/Rome:20251024T100000
DTEND;TZID=Europe/Rome:20251026T170000
DTSTAMP:20260422T020310
CREATED:20250919T145154Z
LAST-MODIFIED:20251013T141736Z
UID:10000271-1761300000-1761498000@komen.it
SUMMARY:La Maddalena - Caprera - Villaggi della Salute
DESCRIPTION:
URL:https://komen.it/evento/villaggi-lamaddalena-caprera-24-25-26ottobre2025/
LOCATION:Piazza Umberto\, La Maddalena SS\, 07024\, Italia
CATEGORIES:Carovana della prevenzione
END:VEVENT
BEGIN:VEVENT
DTSTART;TZID=Europe/Rome:20251025T100000
DTEND;TZID=Europe/Rome:20251026T150000
DTSTAMP:20260422T020310
CREATED:20251015T140011Z
LAST-MODIFIED:20251021T093152Z
UID:10000299-1761386400-1761490800@komen.it
SUMMARY:Napoli
DESCRIPTION:
URL:https://komen.it/evento/napoli-25-26ottobre2025/
LOCATION:Privato: Piazza Plebiscito\, Napoli\, 80132\, Italia
CATEGORIES:Carovana della prevenzione
END:VEVENT
BEGIN:VEVENT
DTSTART;TZID=Europe/Rome:20251026T090000
DTEND;TZID=Europe/Rome:20251026T150000
DTSTAMP:20260422T020310
CREATED:20251015T154334Z
LAST-MODIFIED:20251015T154334Z
UID:10000301-1761469200-1761490800@komen.it
SUMMARY:Villasalto
DESCRIPTION:
URL:https://komen.it/evento/villasalto-26ottobre2025/
LOCATION:fronte AVRA\, Piazza Giovanni Paolo\, Villasalto CA\, 09040\, Italia
CATEGORIES:Carovana della prevenzione
END:VEVENT
END:VCALENDAR