BEGIN:VCALENDAR
VERSION:2.0
PRODID:-//Komen Italia - ECPv6.6.4//NONSGML v1.0//EN
CALSCALE:GREGORIAN
METHOD:PUBLISH
X-WR-CALNAME:Komen Italia
X-ORIGINAL-URL:https://komen.it
X-WR-CALDESC:Eventi per Komen Italia
REFRESH-INTERVAL;VALUE=DURATION:PT1H
X-Robots-Tag:noindex
X-PUBLISHED-TTL:PT1H
BEGIN:VTIMEZONE
TZID:Europe/Rome
BEGIN:DAYLIGHT
TZOFFSETFROM:+0100
TZOFFSETTO:+0200
TZNAME:CEST
DTSTART:20250330T010000
END:DAYLIGHT
BEGIN:STANDARD
TZOFFSETFROM:+0200
TZOFFSETTO:+0100
TZNAME:CET
DTSTART:20251026T010000
END:STANDARD
END:VTIMEZONE
BEGIN:VEVENT
DTSTART;TZID=Europe/Rome:20250712T090000
DTEND;TZID=Europe/Rome:20250712T150000
DTSTAMP:20260421T201521
CREATED:20250627T093744Z
LAST-MODIFIED:20250627T100020Z
UID:10000238-1752310800-1752332400@komen.it
SUMMARY:Bagnara Calabra (RC)
DESCRIPTION:
URL:https://komen.it/evento/bagnara-calabra-rc-12luglio2025/
LOCATION:Piazza Matteotti\, Piazza Matteotti\, Bagnara Calabra RC\, 89011\, Italia
CATEGORIES:Carovana della prevenzione
END:VEVENT
BEGIN:VEVENT
DTSTART;TZID=Europe/Rome:20250712T090000
DTEND;TZID=Europe/Rome:20250712T150000
DTSTAMP:20260421T201521
CREATED:20250703T083014Z
LAST-MODIFIED:20250704T122334Z
UID:10000243-1752310800-1752332400@komen.it
SUMMARY:Riano
DESCRIPTION:
URL:https://komen.it/evento/riano-12luglio2025/
LOCATION:Largo Giovanni Falcone e Paolo Borsellino\, Riano\, 00060\, Italia
CATEGORIES:Carovana della prevenzione
END:VEVENT
END:VCALENDAR