BEGIN:VCALENDAR
VERSION:2.0
PRODID:-//Komen Italia - ECPv6.6.4//NONSGML v1.0//EN
CALSCALE:GREGORIAN
METHOD:PUBLISH
X-WR-CALNAME:Komen Italia
X-ORIGINAL-URL:https://komen.it
X-WR-CALDESC:Eventi per Komen Italia
REFRESH-INTERVAL;VALUE=DURATION:PT1H
X-Robots-Tag:noindex
X-PUBLISHED-TTL:PT1H
BEGIN:VTIMEZONE
TZID:Europe/Rome
BEGIN:DAYLIGHT
TZOFFSETFROM:+0100
TZOFFSETTO:+0200
TZNAME:CEST
DTSTART:20250330T010000
END:DAYLIGHT
BEGIN:STANDARD
TZOFFSETFROM:+0200
TZOFFSETTO:+0100
TZNAME:CET
DTSTART:20251026T010000
END:STANDARD
END:VTIMEZONE
BEGIN:VEVENT
DTSTART;TZID=Europe/Rome:20250706T090000
DTEND;TZID=Europe/Rome:20250709T150000
DTSTAMP:20260421T220133
CREATED:20250627T094417Z
LAST-MODIFIED:20250703T101354Z
UID:10000240-1751792400-1752073200@komen.it
SUMMARY:Rende CS
DESCRIPTION:
URL:https://komen.it/evento/rende-cs-6-9luglio2025/
LOCATION:Frazione Saporito\, Via Palladio\, Rende CS\, 87036\, Italia
CATEGORIES:Carovana della prevenzione
END:VEVENT
BEGIN:VEVENT
DTSTART;TZID=Europe/Rome:20250709T090000
DTEND;TZID=Europe/Rome:20250709T150000
DTSTAMP:20260421T220133
CREATED:20250624T090105Z
LAST-MODIFIED:20250627T090938Z
UID:10000234-1752051600-1752073200@komen.it
SUMMARY:Roma
DESCRIPTION:
URL:https://komen.it/evento/roma-9luglio2025-mazzacurati/
LOCATION:Via Mazzacurati\, Roma\, 00148\, Italia
CATEGORIES:Carovana della prevenzione
END:VEVENT
BEGIN:VEVENT
DTSTART;TZID=Europe/Rome:20250709T090000
DTEND;TZID=Europe/Rome:20250709T150000
DTSTAMP:20260421T220133
CREATED:20250624T092452Z
LAST-MODIFIED:20250627T090929Z
UID:10000235-1752051600-1752073200@komen.it
SUMMARY:Roma
DESCRIPTION:
URL:https://komen.it/evento/roma-9luglio2025-largo-giussani/
LOCATION:Largo Giussani\, Largo Sorelle Giussani\, Roma\, 00127\, Italia
CATEGORIES:Carovana della prevenzione
END:VEVENT
BEGIN:VEVENT
DTSTART;TZID=Europe/Rome:20250709T090000
DTEND;TZID=Europe/Rome:20250709T150000
DTSTAMP:20260421T220133
CREATED:20250703T095430Z
LAST-MODIFIED:20250704T124235Z
UID:10000246-1752051600-1752073200@komen.it
SUMMARY:Castellammare di Stabia NA
DESCRIPTION:
URL:https://komen.it/evento/castellammare-di-stabia-9luglio2025/
LOCATION:Lungomare Corso\, 26\, Castellammare di Stabia NA\, 80053\, Italia
CATEGORIES:Carovana della prevenzione
END:VEVENT
END:VCALENDAR