BEGIN:VCALENDAR
VERSION:2.0
PRODID:-//Komen Italia - ECPv6.6.4//NONSGML v1.0//EN
CALSCALE:GREGORIAN
METHOD:PUBLISH
X-WR-CALNAME:Komen Italia
X-ORIGINAL-URL:https://komen.it
X-WR-CALDESC:Eventi per Komen Italia
REFRESH-INTERVAL;VALUE=DURATION:PT1H
X-Robots-Tag:noindex
X-PUBLISHED-TTL:PT1H
BEGIN:VTIMEZONE
TZID:Europe/Rome
BEGIN:DAYLIGHT
TZOFFSETFROM:+0100
TZOFFSETTO:+0200
TZNAME:CEST
DTSTART:20250330T010000
END:DAYLIGHT
BEGIN:STANDARD
TZOFFSETFROM:+0200
TZOFFSETTO:+0100
TZNAME:CET
DTSTART:20251026T010000
END:STANDARD
END:VTIMEZONE
BEGIN:VEVENT
DTSTART;TZID=Europe/Rome:20250629T090000
DTEND;TZID=Europe/Rome:20250629T150000
DTSTAMP:20260421T183344
CREATED:20250603T123531Z
LAST-MODIFIED:20250603T131011Z
UID:10000226-1751187600-1751209200@komen.it
SUMMARY:Trevignano Romano
DESCRIPTION:
URL:https://komen.it/evento/trevignano-romano-29giugno2025/
LOCATION:Piazzale del Molo\, Trevignano Romano RM\, 00069\, Italia
CATEGORIES:Carovana della prevenzione
END:VEVENT
BEGIN:VEVENT
DTSTART;TZID=Europe/Rome:20250629T090000
DTEND;TZID=Europe/Rome:20250629T150000
DTSTAMP:20260421T183344
CREATED:20250624T120939Z
LAST-MODIFIED:20250627T090947Z
UID:10000237-1751187600-1751209200@komen.it
SUMMARY:Padova
DESCRIPTION:
URL:https://komen.it/evento/padova-29giugno2025/
LOCATION:chiesa di Santa Caterina da Siena\, via Don Giuseppe Lago 30\, Padova\, 35129\, Italia
CATEGORIES:Carovana della prevenzione
END:VEVENT
END:VCALENDAR