BEGIN:VCALENDAR
VERSION:2.0
PRODID:-//Komen Italia - ECPv6.6.4//NONSGML v1.0//EN
CALSCALE:GREGORIAN
METHOD:PUBLISH
X-WR-CALNAME:Komen Italia
X-ORIGINAL-URL:https://komen.it
X-WR-CALDESC:Eventi per Komen Italia
REFRESH-INTERVAL;VALUE=DURATION:PT1H
X-Robots-Tag:noindex
X-PUBLISHED-TTL:PT1H
BEGIN:VTIMEZONE
TZID:Europe/Rome
BEGIN:DAYLIGHT
TZOFFSETFROM:+0100
TZOFFSETTO:+0200
TZNAME:CEST
DTSTART:20250330T010000
END:DAYLIGHT
BEGIN:STANDARD
TZOFFSETFROM:+0200
TZOFFSETTO:+0100
TZNAME:CET
DTSTART:20251026T010000
END:STANDARD
END:VTIMEZONE
BEGIN:VEVENT
DTSTART;TZID=Europe/Rome:20250626T090000
DTEND;TZID=Europe/Rome:20250626T150000
DTSTAMP:20260421T183511
CREATED:20250529T085734Z
LAST-MODIFIED:20250529T090248Z
UID:10000222-1750928400-1750950000@komen.it
SUMMARY:Palestrina
DESCRIPTION:
URL:https://komen.it/evento/palestrina-26giugno2025/
LOCATION:Piazza Italia\, Palestrina (RM)\, 00036\, Italia
CATEGORIES:Carovana della prevenzione
END:VEVENT
BEGIN:VEVENT
DTSTART;TZID=Europe/Rome:20250626T090000
DTEND;TZID=Europe/Rome:20250626T150000
DTSTAMP:20260421T183511
CREATED:20250612T103355Z
LAST-MODIFIED:20250613T141523Z
UID:10000230-1750928400-1750950000@komen.it
SUMMARY:Sedini (SS)
DESCRIPTION:
URL:https://komen.it/evento/sedini-ss-26giugno2025/
LOCATION:Piazza del comune\, Sedini SS\, Italia
CATEGORIES:Carovana della prevenzione
END:VEVENT
END:VCALENDAR