BEGIN:VCALENDAR
VERSION:2.0
PRODID:-//Komen Italia - ECPv6.6.4//NONSGML v1.0//EN
CALSCALE:GREGORIAN
METHOD:PUBLISH
X-WR-CALNAME:Komen Italia
X-ORIGINAL-URL:https://komen.it
X-WR-CALDESC:Eventi per Komen Italia
REFRESH-INTERVAL;VALUE=DURATION:PT1H
X-Robots-Tag:noindex
X-PUBLISHED-TTL:PT1H
BEGIN:VTIMEZONE
TZID:Europe/Rome
BEGIN:DAYLIGHT
TZOFFSETFROM:+0100
TZOFFSETTO:+0200
TZNAME:CEST
DTSTART:20250330T010000
END:DAYLIGHT
BEGIN:STANDARD
TZOFFSETFROM:+0200
TZOFFSETTO:+0100
TZNAME:CET
DTSTART:20251026T010000
END:STANDARD
END:VTIMEZONE
BEGIN:VEVENT
DTSTART;TZID=Europe/Rome:20250611T090000
DTEND;TZID=Europe/Rome:20250612T150000
DTSTAMP:20260419T214218
CREATED:20250529T094119Z
LAST-MODIFIED:20250603T123059Z
UID:10000223-1749632400-1749740400@komen.it
SUMMARY:Pollica
DESCRIPTION:
URL:https://komen.it/evento/pollica-11-12giugno2025/
LOCATION:Porto di Acciaroli\, Via Diaz Acciaroli\, Acciaroli SA\, 84068\, Italia
CATEGORIES:Carovana della prevenzione
END:VEVENT
END:VCALENDAR