BEGIN:VCALENDAR
VERSION:2.0
PRODID:-//Komen Italia - ECPv6.6.4//NONSGML v1.0//EN
CALSCALE:GREGORIAN
METHOD:PUBLISH
X-WR-CALNAME:Komen Italia
X-ORIGINAL-URL:https://komen.it
X-WR-CALDESC:Eventi per Komen Italia
REFRESH-INTERVAL;VALUE=DURATION:PT1H
X-Robots-Tag:noindex
X-PUBLISHED-TTL:PT1H
BEGIN:VTIMEZONE
TZID:Europe/Rome
BEGIN:DAYLIGHT
TZOFFSETFROM:+0100
TZOFFSETTO:+0200
TZNAME:CEST
DTSTART:20250330T010000
END:DAYLIGHT
BEGIN:STANDARD
TZOFFSETFROM:+0200
TZOFFSETTO:+0100
TZNAME:CET
DTSTART:20251026T010000
END:STANDARD
END:VTIMEZONE
BEGIN:VEVENT
DTSTART;TZID=Europe/Rome:20250607T090000
DTEND;TZID=Europe/Rome:20250608T150000
DTSTAMP:20260419T162734
CREATED:20250521T092445Z
LAST-MODIFIED:20250530T131452Z
UID:10000207-1749286800-1749394800@komen.it
SUMMARY:Atessa
DESCRIPTION:
URL:https://komen.it/evento/atessa-7-8giugno2025/
LOCATION:Piazza Garibaldi\, Piazza Giuseppe Garibaldi\, Anzio RM\, 00042\, Italia
CATEGORIES:Carovana della prevenzione
END:VEVENT
END:VCALENDAR