BEGIN:VCALENDAR
VERSION:2.0
PRODID:-//Komen Italia - ECPv6.6.4//NONSGML v1.0//EN
CALSCALE:GREGORIAN
METHOD:PUBLISH
X-WR-CALNAME:Komen Italia
X-ORIGINAL-URL:https://komen.it
X-WR-CALDESC:Eventi per Komen Italia
REFRESH-INTERVAL;VALUE=DURATION:PT1H
X-Robots-Tag:noindex
X-PUBLISHED-TTL:PT1H
BEGIN:VTIMEZONE
TZID:Europe/Rome
BEGIN:DAYLIGHT
TZOFFSETFROM:+0100
TZOFFSETTO:+0200
TZNAME:CEST
DTSTART:20250330T010000
END:DAYLIGHT
BEGIN:STANDARD
TZOFFSETFROM:+0200
TZOFFSETTO:+0100
TZNAME:CET
DTSTART:20251026T010000
END:STANDARD
END:VTIMEZONE
BEGIN:VEVENT
DTSTART;TZID=Europe/Rome:20250404T090000
DTEND;TZID=Europe/Rome:20250404T153000
DTSTAMP:20260419T140111
CREATED:20250221T090210Z
LAST-MODIFIED:20250313T120107Z
UID:10000160-1743757200-1743780600@komen.it
SUMMARY:Palermo
DESCRIPTION:
URL:https://komen.it/evento/palermo-4aprile2025/
LOCATION:FARMACIA PORTA GUCCIA\, Piazza Porta Guccia\, 9\, Palermo\, 90134\, Italia
CATEGORIES:Carovana della prevenzione
END:VEVENT
END:VCALENDAR